BEGIN:VCALENDAR
VERSION:2.0
PRODID:-//eventon.com NONSGML v1.0//EN
CALSCALE:GREGORIAN
METHOD:PUBLISH
BEGIN:VEVENT
UID:69e5f0cea30bc
DTSTAMP:20260420T092430Z
DTSTART:20260306T171500Z
DTEND:20260306T171500Z
LOCATION:
SUMMARY:STOLPERSTEINE" - PAVÉS DE MÉMOIRE CEREMONIE LE 06 MARS 14H
DESCRIPTION:Cérémonie "STOLPERSTEINE" - 1ers PAVÉS DE MÉMOIREEN MÉMOIR
 E DEJACQUES BLUMJACQUES GUGENHEIMFLORINE WEIL NEE WEILLALICE EISENMANN NEE 
 LEVYRENEE KAHN NEE BLUMDÉPORTÉS ET ASSASSINÉSRendez-vous LE 6 MARS 2026 
 a 14hDEVANT LA MAIRIE DE QUATZENHEIM DON STOLPERSTEINETélécharger https:/
 /mapstr.com/user/stolpersteinefrance\nhttps://quatzenheim.fr/events/stolper
 steine-paves-de-memoire-ceremonie-le-06-mars-14h/
URL:https://quatzenheim.fr/events/stolpersteine-paves-de-memoire-ceremonie-le-06-mars-14h/
END:VEVENT
END:VCALENDAR