BEGIN:VCALENDAR
VERSION:2.0
PRODID:-//eventon.com NONSGML v1.0//EN
CALSCALE:GREGORIAN
METHOD:PUBLISH
BEGIN:VEVENT
UID:69e731c578328
DTSTAMP:20260421T081357Z
DTSTART:20260325
DTEND:20260326
LOCATION:
SUMMARY:opÃ©ration pour les jeunes Â« le mÃ©got\,  ce flÃ©au Â»  mercredi 25 mars. l'aprÃ¨s-midi \,  ramassage et  goÃ»ter
DESCRIPTION:cette annÃ©e encore \,  le conseil municipal va organiser\,  po
 ur les jeunes DE 12 ANS ET + \,  une opÃ©ration qui est intitulÃ©e Â« le mÃ
 ©got\,  ce flÃ©au Â» le mercredi 25 mars. Il sâ€™agit de leur expliquer les
  dangers que reprÃ©sentent les mÃ©gots qui sont jetÃ©s dans les caniveaux[.
 .]\nhttps://quatzenheim.fr/events/le-megot-ce-fleau-mercredi-19-mars-lapres
 -midi-ramassage-et-gouter/
URL:https://quatzenheim.fr/events/le-megot-ce-fleau-mercredi-19-mars-lapres-midi-ramassage-et-gouter/
END:VEVENT
END:VCALENDAR