BEGIN:VCALENDAR
VERSION:2.0
PRODID:-//eventon.com NONSGML v1.0//EN
CALSCALE:GREGORIAN
METHOD:PUBLISH
BEGIN:VEVENT
UID:69e8bcf437e1e
DTSTAMP:20260422T122004Z
DTSTART:20260401
DTEND:20260501
LOCATION:
SUMMARY:FERMETURE MAIRIE & AGENCE POSTALE * au public *  \,     le 24 AVRIL pour CONGES  ► 
DESCRIPTION:SECRÉTARIAT de MAIRIE SGM MH SCHOTT &amp; Agence Postale https
 ://www.laposte.fr/outils/suivre-vos-envois Fermeture pour Congés &nbsp;MAI
 RIE ET APC * au public\,  Le 24 AVRIL pour CONGES  ►  &nbsp;►&nbsp; m
 airie@quatzenheim.fr Les mails seront lus à distance + En cas d'urgence ve
 uillez joindre le maire ou ses adjoints DÉMARCHES EN LIGNE sur MONSERVICEP
 UBLIC.fr \, [..]\nhttps://quatzenheim.fr/events/fermeture-mairie-agence-pos
 tale-au-public-jeudi-vendredi-20-21-mars-2025-mardi-mercredi-22-23-avril-20
 25-jeudi-vendredi-19-20-juin-2025-pour-formations-jeudi-17-avril-vendredi-0
 2-et-0/
URL:https://quatzenheim.fr/events/fermeture-mairie-agence-postale-au-public-jeudi-vendredi-20-21-mars-2025-mardi-mercredi-22-23-avril-2025-jeudi-vendredi-19-20-juin-2025-pour-formations-jeudi-17-avril-vendredi-02-et-0/
END:VEVENT
END:VCALENDAR