BEGIN:VCALENDAR
VERSION:2.0
PRODID:-//eventon.com NONSGML v1.0//EN
CALSCALE:GREGORIAN
METHOD:PUBLISH
BEGIN:VEVENT
UID:69e60a31377fa
DTSTAMP:20260420T111249Z
DTSTART:20260401
DTEND:20260501
LOCATION:
SUMMARY:environnement \,  dÃ©chets\,  TRI/ OM \,  heures d'Ã©tÃ© dÃ©chetteries\,  eaux ....
DESCRIPTION:https://www.kochersberg.fr/Vivre/Vivre-CoCoKo.html CoCoKo - Pou
 rquoi la collecte des poubelles noires va-t-elle Ã©voluer alternatives@gene
 rations-futures.fr carnet_mon_jardin_zero_dechet_v2_min.pdf carnet_mon_jard
 in_zero_dechet_v2_minTÃ©lÃ©charger https://www.semaine-sans-pesticides.fr r
 Ã©sultats analyse ARS dÃ©c 2025 EAUX DESTINÃ‰ES A LA CONSOMMATION HUMAIN rÃ
 ©sultats ananlyse ARS dec 2025 EAUX DESTINEES A LA CONSOMMATION HUMAINETÃ©l
 Ã©charger Haies vives dâ€™Alsace https://haies-vives-alsace.org/evenements/
  Durant les fÃªtes\,  n'oubliez pas le tri !Â­Quelques rappels[..]\nhttps:/
 /quatzenheim.fr/events/programme-semaine-alternatives-pesticides-sap-du-20-
 au-30-mars-sur-le-secteur/
URL:https://quatzenheim.fr/events/programme-semaine-alternatives-pesticides-sap-du-20-au-30-mars-sur-le-secteur/
END:VEVENT
END:VCALENDAR