BEGIN:VCALENDAR
VERSION:2.0
PRODID:-//eventon.com NONSGML v1.0//EN
CALSCALE:GREGORIAN
METHOD:PUBLISH
BEGIN:VEVENT
UID:69e8d18c420b5
DTSTAMP:20260422T134756Z
DTSTART:20251201
DTEND:20260101
LOCATION:
SUMMARY:infos job\,  formations\,  mission locale etc. les AFTERS de CMA FORMATION Bernard STALTER (Eschau) dates 2026 +
DESCRIPTION:Scan__20251205_144106TÃ©lÃ©charger &nbsp; CMA FORMATION BERNARD
  STALTER ESCHAU vous invite Ã  un After. Pratique en atelier\,  conseils Ã 
  la candidature et jeux en lien avec les mÃ©tiers vous attendent. &nbsp; Th
 Ã©matique du 15 janvier boulangerie / pÃ¢tisserie &nbsp; ET SI CE MÃ‰TIER Ã
 ‰TAIT FAIT POUR VOUS ? VENEZ Lâ€™ESSAYER CHEZ NOUS[..]\nhttps://quatzenheim
 .fr/events/infos-jeunesse-infos-emplois-infos-sociales/
URL:https://quatzenheim.fr/events/infos-jeunesse-infos-emplois-infos-sociales/
END:VEVENT
END:VCALENDAR