BEGIN:VCALENDAR
VERSION:2.0
PRODID:-//eventon.com NONSGML v1.0//EN
CALSCALE:GREGORIAN
METHOD:PUBLISH
BEGIN:VEVENT
UID:69e8f68500a46
DTSTAMP:20260422T162541Z
DTSTART:20260428
DTEND:20260429
LOCATION:
SUMMARY:QUATZENHEIM : Marché bimensuel les MARDI de semaine PAIRE\,  de 16 h 45 à 19 h 30 environ ;                                            Petite Place du Marché   et STAMMDISCH sympa par les associations & food truck autres jours
DESCRIPTION:QUATZENHEIM : Marché bimensuel les MARDI de semaine PAIRE\,  d
 e 16 h 45 à 19 h 30 environ ; Petite Place du Marché et STAMMDISCH sympa 
 par les associations &amp; food truck autres jours\nhttps://quatzenheim.fr/
 events/quatzenheim-marche-bimensuel-de-16-h-30-a-19-h-00-petite-place-de-la
 -mairie-rue-des-bouchers-semaine-paire-et-stammdisch-sympa-par-les-associat
 ions-food-truck-autres-jours/
URL:https://quatzenheim.fr/events/quatzenheim-marche-bimensuel-de-16-h-30-a-19-h-00-petite-place-de-la-mairie-rue-des-bouchers-semaine-paire-et-stammdisch-sympa-par-les-associations-food-truck-autres-jours/
END:VEVENT
END:VCALENDAR